BEGIN:VCALENDAR
VERSION:2.0
PRODID:-//Sociedad Mexicana de Dermatología A.C. - ECPv6.15.20//NONSGML v1.0//EN
CALSCALE:GREGORIAN
METHOD:PUBLISH
X-ORIGINAL-URL:https://smdac.com.mx
X-WR-CALDESC:Eventos para Sociedad Mexicana de Dermatología A.C.
REFRESH-INTERVAL;VALUE=DURATION:PT1H
X-Robots-Tag:noindex
X-PUBLISHED-TTL:PT1H
BEGIN:VTIMEZONE
TZID:UTC
BEGIN:STANDARD
TZOFFSETFROM:+0000
TZOFFSETTO:+0000
TZNAME:UTC
DTSTART:20240101T000000
END:STANDARD
END:VTIMEZONE
BEGIN:VEVENT
DTSTART;TZID=UTC:20250605T160000
DTEND;TZID=UTC:20250605T180000
DTSTAMP:20260425T161351
CREATED:20250908T171000Z
LAST-MODIFIED:20251001T223003Z
UID:10000004-1749139200-1749146400@smdac.com.mx
SUMMARY:Sesión Ordinaria 5 de Junio de 2025
DESCRIPTION:Acta de la Sesión Ordinaria de la SMD del 5 de junio del 2025\n\nEl Dr. Alcalá inicia la sesión dando la bienvenida a los asistentes presentes y virtuales. Se procede con la lectura del acta de la sesión ordinaria anterior\, la cual es aprobada sin cambios. \nTrabajos de Ingreso\nDra. Daniela Ruiz Gómez\nTítulo: “Tricoscopia\, capilaroscopia y mucoscopia oral como marcadores de actividad en dermatomiositis”. \n\nEl Dr. Alcalá pregunta si estos métodos ayudan en casos donde el diagnóstico es incierto o incipiente. La doctora responde afirmativamente\, destacando que requieren curva de aprendizaje.\nEl Dr. Medina pregunta sobre signos capilaroscópicos de regresión en pacientes tratados. La doctora confirma que sí y menciona que se está haciendo seguimiento para complementar el estudio.\nEl Dr. Ramos enfatiza la necesidad de entrenamiento para identificar patrones y su posible comparación con otras enfermedades de la colágena.\nLa Dra. Franco pregunta sobre dermatomiositis paraneoplásica. La Dra. Ruiz menciona un caso con tumoración 12 meses después del diagnóstico.\n\nSe realiza la votación y la doctora es aceptada como miembro de la Sociedad. \nDra. Lilia Yolanda Camacho Frausto\nTítulo: “Epidemiología de psoriasis pustulosa en un centro de referencia en México: 16 años de experiencia”. \n\nEl Dr. Medina pregunta sobre tratamientos biológicos y otros. Se menciona el uso de isotretinoína además del biológico aprobado recientemente para mayores de 18 años.\nEl Dr. Ramos señala que faltó incluir diagnóstico histológico en los 110 casos.\nEl Dr. Alcalá destaca la importancia del diagnóstico temprano por parte del dermatólogo\, especialmente en casos con involucro de palmas y plantas.\n\nSe realiza la votación y la doctora es aceptada como miembro de la Sociedad. \nPresentación de Tema\nDra. Natalia Rossiere Echazarreta\nTítulo: “Bioestimulación con ácido poliláctico”. \n\nEl Dr. Alcalá comenta que el tratamiento es útil para flacidez facial\, celulitis corporal y ofrece resultados naturales.\nLa Dra. Reyna Reyes pregunta sobre su uso en cicatrices de acné y el efecto de voluminización facial. La Dra. Rossiere recomienda aplicar el tratamiento detrás de la línea ligamentaria para evitar ese efecto.\nLa Dra. Cárdenas pregunta sobre efectos adversos como nódulos o granulomas. La doctora responde que son muy raros (menos del 1%) y se tratan con solución salina o esteroides intralesionales.\n\nLa Sociedad agradece la ponencia de la doctora. \nClausura\nComo último punto\, se recuerdan las fechas del Congreso de la SMD\, que se llevará a cabo en Monterrey del 15 al 18 de abril del 2026. \nSe da por terminada la sesión agradeciendo la asistencia y participación de todos los presentes y virtuales.
URL:https://smdac.com.mx/event/sesion-ordinaria-2/
CATEGORIES:Sesiones Ordinarias
ATTACH;FMTTYPE=image/jpeg:https://smdac.com.mx/wp-content/uploads/2025/09/PHOTO-2025-05-22-17-52-02.jpg
END:VEVENT
END:VCALENDAR