BEGIN:VCALENDAR
VERSION:2.0
PRODID:-//Sociedad Mexicana de Dermatología A.C. - ECPv6.15.20//NONSGML v1.0//EN
CALSCALE:GREGORIAN
METHOD:PUBLISH
X-ORIGINAL-URL:https://smdac.com.mx
X-WR-CALDESC:Eventos para Sociedad Mexicana de Dermatología A.C.
REFRESH-INTERVAL;VALUE=DURATION:PT1H
X-Robots-Tag:noindex
X-PUBLISHED-TTL:PT1H
BEGIN:VTIMEZONE
TZID:UTC
BEGIN:STANDARD
TZOFFSETFROM:+0000
TZOFFSETTO:+0000
TZNAME:UTC
DTSTART:20240101T000000
END:STANDARD
END:VTIMEZONE
BEGIN:VEVENT
DTSTART;TZID=UTC:20251120T110000
DTEND;TZID=UTC:20251120T130000
DTSTAMP:20260421T215816
CREATED:20250908T181703Z
LAST-MODIFIED:20251113T212449Z
UID:10000018-1763636400-1763643600@smdac.com.mx
SUMMARY:Sesión Clínica 20 de Noviembre de 2025
DESCRIPTION:
URL:https://smdac.com.mx/event/sesion-clinica-8/
LOCATION:Privado: Centro Dermatológico “Dr. Ladislao de la Pascua”\, CDMX\, Mexico
CATEGORIES:Sesiones Clínicas
ATTACH;FMTTYPE=image/jpeg:https://smdac.com.mx/wp-content/uploads/2025/09/Clinicas-2.jpeg
END:VEVENT
END:VCALENDAR