BEGIN:VCALENDAR
VERSION:2.0
PRODID:-//Sociedad Mexicana de Dermatología A.C. - ECPv6.15.20//NONSGML v1.0//EN
CALSCALE:GREGORIAN
METHOD:PUBLISH
X-WR-CALNAME:Sociedad Mexicana de Dermatología A.C.
X-ORIGINAL-URL:https://smdac.com.mx
X-WR-CALDESC:Eventos para Sociedad Mexicana de Dermatología A.C.
REFRESH-INTERVAL;VALUE=DURATION:PT1H
X-Robots-Tag:noindex
X-PUBLISHED-TTL:PT1H
BEGIN:VTIMEZONE
TZID:UTC
BEGIN:STANDARD
TZOFFSETFROM:+0000
TZOFFSETTO:+0000
TZNAME:UTC
DTSTART:20240101T000000
END:STANDARD
END:VTIMEZONE
BEGIN:VEVENT
DTSTART;TZID=UTC:20250821T110000
DTEND;TZID=UTC:20250821T130000
DTSTAMP:20260420T112745
CREATED:20250908T180755Z
LAST-MODIFIED:20251001T223428Z
UID:10000015-1755774000-1755781200@smdac.com.mx
SUMMARY:Sesión Clínica 21 de Agosto 2025
DESCRIPTION:Acta de la Sesión Clínica del 21 de agosto del 2025 de la SMD\nEl Dr. Marcelino Espinosa inicia dando la bienvenida a los asistentes presentes y virtuales y en nombre del Dr. Daniel Alcalá\, agradece al Centro Dermatológico Dr. Ladislao de la Pascua por permitir que se lleve a cabo la sesión de la Sociedad en dicho espacio.\nSe agradece a la Dra. María del Carmen Padilla por abrir las puertas y contribuir a la Sociedad para la realización de esta sesión. \nComo primer punto\, se lleva a cabo la lectura del acta anterior y es aprobada sin correcciones. \nA continuación\, se da paso a la presentación de casos clínicos por parte del servicio de Enfermedades de Transmisión Sexual\, revisados y presentados por la Dra. Sara Pérez\, jefa del servicio desde hace 20 años. \nLa Dra. Pérez expuso dos casos detallados de Sífilis secundaria; en ambos pacientes se llegó al diagnóstico de Sífilis Maligna e infección por VIH. Se enfatizó la relevancia del diagnóstico oportuno y el tratamiento con Penicilina G benzatínica como opción de elección. \nLa Dra. destacó que la Sífilis afecta a 8 millones de personas a nivel mundial\, con el 42% de casos nuevos en hombres que tienen sexo con hombres. Se explicó la clasificación de la enfermedad (primaria\, secundaria y terciaria) con énfasis en las presentaciones atípicas en pacientes VIH positivos.\nSe describió la Sífilis maligna como forma severa y diseminada\, presentando datos epidemiológicos\, criterios diagnósticos y la importancia del seguimiento serológico tras el tratamiento. \nEn las preguntas y comentarios se agradeció la participación de la Dra. Pérez y se le felicitó por su trayectoria en el manejo de pacientes con ETS. Se recalcó que el seguimiento y apego al tratamiento no siempre es ideal\, y que se requiere apoyo de trabajo social.\nSe hizo un llamado a médicos en formación y residentes para aprovechar las rotaciones y adquirir experiencia en el manejo de estos casos. \nFinalmente\, se agradeció a la Dra. María del Carmen Padilla y a todos los médicos del Centro Dermatológico Pascua su asistencia. Se recordaron las fechas para el Congreso de la Sociedad Mexicana de Dermatología que se llevará a cabo en Monterrey del 15-18 de abril del 2026. \nSe da por terminada la sesión agradeciendo la asistencia y participación de todos los presentes y virtuales.
URL:https://smdac.com.mx/event/sesion-clinica-5/
LOCATION:Privado: Centro Dermatológico “Dr. Ladislao de la Pascua”\, CDMX\, Mexico
CATEGORIES:Sesiones Clínicas
ATTACH;FMTTYPE=image/jpeg:https://smdac.com.mx/wp-content/uploads/2025/09/SesionClinicaAGS8-scaled.jpg
END:VEVENT
END:VCALENDAR