BEGIN:VCALENDAR
VERSION:2.0
PRODID:-//Sociedad Mexicana de Dermatología A.C. - ECPv6.15.20//NONSGML v1.0//EN
CALSCALE:GREGORIAN
METHOD:PUBLISH
X-WR-CALNAME:Sociedad Mexicana de Dermatología A.C.
X-ORIGINAL-URL:https://smdac.com.mx
X-WR-CALDESC:Eventos para Sociedad Mexicana de Dermatología A.C.
REFRESH-INTERVAL;VALUE=DURATION:PT1H
X-Robots-Tag:noindex
X-PUBLISHED-TTL:PT1H
BEGIN:VTIMEZONE
TZID:UTC
BEGIN:STANDARD
TZOFFSETFROM:+0000
TZOFFSETTO:+0000
TZNAME:UTC
DTSTART:20240101T000000
END:STANDARD
END:VTIMEZONE
BEGIN:VEVENT
DTSTART;TZID=UTC:20251106T160000
DTEND;TZID=UTC:20251106T180000
DTSTAMP:20260419T124650
CREATED:20250908T174203Z
LAST-MODIFIED:20251114T160659Z
UID:10000009-1762444800-1762452000@smdac.com.mx
SUMMARY:Sesión Ordinaria 6 de Noviembre de 2025
DESCRIPTION:
URL:https://smdac.com.mx/event/sesion-ordinaria-6/
LOCATION:Hotel Novit\, Av. Insurgentes Sur 635\, Nápoles\, Benito Juárez\, 03810\, Ciudad de México\, 03810\, Mexico
CATEGORIES:Sesiones Ordinarias
ATTACH;FMTTYPE=image/jpeg:https://smdac.com.mx/wp-content/uploads/2025/09/PHOTO-2025-11-05-13-49-07.jpg
END:VEVENT
BEGIN:VEVENT
DTSTART;VALUE=DATE:20251120
DTEND;VALUE=DATE:20251123
DTSTAMP:20260419T124650
CREATED:20250911T212351Z
LAST-MODIFIED:20250911T212458Z
UID:10000020-1763596800-1763855999@smdac.com.mx
SUMMARY:IV TeraCILAD 2025
DESCRIPTION:
URL:https://smdac.com.mx/event/iv-teracilad-2025/
LOCATION:Ciudad de México\, Mexico
CATEGORIES:congresos
ATTACH;FMTTYPE=image/png:https://smdac.com.mx/wp-content/uploads/2025/09/logo-teracilad-2024.png
END:VEVENT
BEGIN:VEVENT
DTSTART;TZID=UTC:20251120T110000
DTEND;TZID=UTC:20251120T130000
DTSTAMP:20260419T124650
CREATED:20250908T181703Z
LAST-MODIFIED:20251113T212449Z
UID:10000018-1763636400-1763643600@smdac.com.mx
SUMMARY:Sesión Clínica 20 de Noviembre de 2025
DESCRIPTION:
URL:https://smdac.com.mx/event/sesion-clinica-8/
LOCATION:Privado: Centro Dermatológico “Dr. Ladislao de la Pascua”\, CDMX\, Mexico
CATEGORIES:Sesiones Clínicas
ATTACH;FMTTYPE=image/jpeg:https://smdac.com.mx/wp-content/uploads/2025/09/Clinicas-2.jpeg
END:VEVENT
END:VCALENDAR