BEGIN:VCALENDAR
VERSION:2.0
PRODID:-//Sociedad Mexicana de Dermatología A.C. - ECPv6.15.20//NONSGML v1.0//EN
CALSCALE:GREGORIAN
METHOD:PUBLISH
X-WR-CALNAME:Sociedad Mexicana de Dermatología A.C.
X-ORIGINAL-URL:https://smdac.com.mx
X-WR-CALDESC:Eventos para Sociedad Mexicana de Dermatología A.C.
REFRESH-INTERVAL;VALUE=DURATION:PT1H
X-Robots-Tag:noindex
X-PUBLISHED-TTL:PT1H
BEGIN:VTIMEZONE
TZID:UTC
BEGIN:STANDARD
TZOFFSETFROM:+0000
TZOFFSETTO:+0000
TZNAME:UTC
DTSTART:20240101T000000
END:STANDARD
END:VTIMEZONE
BEGIN:VEVENT
DTSTART;TZID=UTC:20250717T110000
DTEND;TZID=UTC:20250717T130000
DTSTAMP:20260421T195558
CREATED:20250908T180556Z
LAST-MODIFIED:20251001T224524Z
UID:10000014-1752750000-1752757200@smdac.com.mx
SUMMARY:Sesión Clínica 17 de Julio de 2025
DESCRIPTION:Acta de la Sesión Clínica del 17 de julio del 2025 de la SMD\n\nEl Dr. Alcalá inicia dando la bienvenida a los asistentes presentes y virtuales\, y agradece al servicio de Dermatología del Hospital General Dr. Manuel Gea González por permitir que se lleve a cabo la sesión de la Sociedad en dicho espacio. También agradece a la Dra. Elisa Vega por habernos abierto las puertas y contribuir a la sociedad para que se realizara esta sesión. \nComo primer punto\, se lleva a cabo la lectura del acta anterior\, la cual es aprobada sin correcciones. \nPresentación de Casos Clínicos\n\nDra. Sabrina Escandón Pérez presenta el caso clínico de Necrosis epidérmica asociada a terlipresina. El Dr. Alcalá felicita a la doctora y resalta la importancia del servicio de dermatología en un hospital general\, especialmente por su relación con urgencias y medicina interna.\nDr. José María Castillo Rangel presenta el caso de Neurosífilis con queratodermia palmo plantar. Se recuerda el término de la “gran simuladora” y se hace énfasis en el tratamiento.\nDra. Erika Judith Damián Magaña presenta un caso de Linfoma intravascular. Se comenta que es un linfoma raro\, agresivo y de difícil diagnóstico.\nDr. Kevin Ramón García Fong presenta un caso de Síndrome de PAPASH. El Dr. Alcalá destaca la importancia de integrar el síndrome para no atender las enfermedades por separado.\nDra. Karen Uriarte Ruiz presenta un caso de Metástasis de tumor testicular. Se felicita a la doctora y se menciona que en más del 20% de los casos\, la metástasis cutánea precede al diagnóstico del tumor primario.\nDr. Jorge Alberto Cortez Vila presenta el caso de Dermatitis sifiloide posterosiva. Se destaca que es una forma agravada de dermatitis de contacto irritativa y constituye un reto diagnóstico.\nDra. Paulina Cortés López presenta un caso de Pénfigo IgA. Se concluye que el diagnóstico de enfermedades ampollosas no siempre es sencillo y requiere correlación clínica con histopatología e inmunofluorescencia cuando está disponible.\n\nClausura\nFinalmente\, se agradece nuevamente a la Dra. Vega y a todo el servicio de dermatología. Se recuerdan las fechas para el Congreso de la SMD\, que se llevará a cabo en Monterrey del 15 al 18 de abril del 2026. \nSe da por terminada la sesión agradeciendo la asistencia y participación de todos los presentes y virtuales.
URL:https://smdac.com.mx/event/sesion-clinica-4/
LOCATION:Hospital general “Dr. Manuel Gea González”\, CDMX\, Mexico
CATEGORIES:Sesiones Clínicas
ATTACH;FMTTYPE=image/jpeg:https://smdac.com.mx/wp-content/uploads/2025/09/PHOTO-2025-07-16-12-53-50-1.jpg
END:VEVENT
END:VCALENDAR